BEGIN:VCALENDAR
VERSION:2.0
PRODID:-//ZIID - ECPv6.15.20//NONSGML v1.0//EN
CALSCALE:GREGORIAN
METHOD:PUBLISH
X-WR-CALNAME:ZIID
X-ORIGINAL-URL:https://ziid.ch
X-WR-CALDESC:Veranstaltungen für ZIID
REFRESH-INTERVAL;VALUE=DURATION:PT1H
X-Robots-Tag:noindex
X-PUBLISHED-TTL:PT1H
BEGIN:VTIMEZONE
TZID:Europe/Zurich
BEGIN:DAYLIGHT
TZOFFSETFROM:+0100
TZOFFSETTO:+0200
TZNAME:CEST
DTSTART:20220327T010000
END:DAYLIGHT
BEGIN:STANDARD
TZOFFSETFROM:+0200
TZOFFSETTO:+0100
TZNAME:CET
DTSTART:20221030T010000
END:STANDARD
BEGIN:DAYLIGHT
TZOFFSETFROM:+0100
TZOFFSETTO:+0200
TZNAME:CEST
DTSTART:20230326T010000
END:DAYLIGHT
BEGIN:STANDARD
TZOFFSETFROM:+0200
TZOFFSETTO:+0100
TZNAME:CET
DTSTART:20231029T010000
END:STANDARD
BEGIN:DAYLIGHT
TZOFFSETFROM:+0100
TZOFFSETTO:+0200
TZNAME:CEST
DTSTART:20240331T010000
END:DAYLIGHT
BEGIN:STANDARD
TZOFFSETFROM:+0200
TZOFFSETTO:+0100
TZNAME:CET
DTSTART:20241027T010000
END:STANDARD
END:VTIMEZONE
BEGIN:VEVENT
DTSTART;TZID=Europe/Zurich:20230220T180000
DTEND;TZID=Europe/Zurich:20230220T193000
DTSTAMP:20260425T060959
CREATED:20220622T094925Z
LAST-MODIFIED:20230214T081920Z
UID:5402-1676916000-1676921400@ziid.ch
SUMMARY:Wir besuchen den Himmel auf Erden!
DESCRIPTION:Gegenüber der Kornhausbrücke in Zürich befindet sich die von Grund auf als solche gebaute griechisch-orthodoxe Kirche Agios Demetrios. \nDie Besucher:innen werden mit auf einen Rundgang durch die Kirche genommen\, wobei der eindrückliche Bilderzyklus erklärt wird. Wie die Ikonen hat er eine wichtige spirituelle Bedeutung für den griechisch-orthodoxen Glauben. \nNach der christlichen griechisch-orthodoxen Auffassung tragen der eucharistische Gottesdienst\, der Kirchenbau aber auch die ikonographischen Darstellungen in der Kirche massgeblich dazu bei\, den Himmel auf Erden zu erleben. \nDie Exkursion ist eine Anschlussveranstaltung zum Besuch der Kirche Agios Demetrios vor einem Jahr\, wo wir uns vornehmlich mit der Liturgie des griechisch-orthodoxen Gottesdienstes auseinander gesetzt haben. \nLeitung: PD Dr. Stefanos Athanasiou und Dr. Tabitha Walther
URL:https://ziid.ch/event/wir-besuchen-den-himmel-auf-erden/
LOCATION:Griechisch-Orthodoxe Kirchgemeinde Agios Dimitrios\, Rousseaustrasse 17\, 8037 Zürich\, Schweiz
CATEGORIES:Führung
END:VEVENT
END:VCALENDAR