BEGIN:VCALENDAR
VERSION:2.0
PRODID:-//ZIID - ECPv6.15.20//NONSGML v1.0//EN
CALSCALE:GREGORIAN
METHOD:PUBLISH
X-WR-CALNAME:ZIID
X-ORIGINAL-URL:https://ziid.ch
X-WR-CALDESC:Veranstaltungen für ZIID
REFRESH-INTERVAL;VALUE=DURATION:PT1H
X-Robots-Tag:noindex
X-PUBLISHED-TTL:PT1H
BEGIN:VTIMEZONE
TZID:Europe/Zurich
BEGIN:DAYLIGHT
TZOFFSETFROM:+0100
TZOFFSETTO:+0200
TZNAME:CEST
DTSTART:20220327T010000
END:DAYLIGHT
BEGIN:STANDARD
TZOFFSETFROM:+0200
TZOFFSETTO:+0100
TZNAME:CET
DTSTART:20221030T010000
END:STANDARD
BEGIN:DAYLIGHT
TZOFFSETFROM:+0100
TZOFFSETTO:+0200
TZNAME:CEST
DTSTART:20230326T010000
END:DAYLIGHT
BEGIN:STANDARD
TZOFFSETFROM:+0200
TZOFFSETTO:+0100
TZNAME:CET
DTSTART:20231029T010000
END:STANDARD
BEGIN:DAYLIGHT
TZOFFSETFROM:+0100
TZOFFSETTO:+0200
TZNAME:CEST
DTSTART:20240331T010000
END:DAYLIGHT
BEGIN:STANDARD
TZOFFSETFROM:+0200
TZOFFSETTO:+0100
TZNAME:CET
DTSTART:20241027T010000
END:STANDARD
END:VTIMEZONE
BEGIN:VEVENT
DTSTART;TZID=Europe/Zurich:20230607T203000
DTEND;TZID=Europe/Zurich:20230607T223000
DTSTAMP:20260426T014505
CREATED:20230504T091605Z
LAST-MODIFIED:20230606T063227Z
UID:10885-1686169800-1686177000@ziid.ch
SUMMARY:Exklusiver Vorverkauf für den Film «Alegría»
DESCRIPTION:Melilla\, spanische Exklave in Marokko. Alegría ist aus Israel hierher zurückgekehrt\, ihren Heimatort\, um die Hochzeit ihrer Nichte zu feiern. \nRegisseurin Salama\, Sephardin mit jüdischem Vater und katholischer Mutter\, verschmilzt in diesem Hochzeits-Topos das Jüdische\, Muslimische und Christliche zu einer Feier des Multikulturellen\, des Familiensinns und der Selbstlosigkeit. \nEine lichte\, lebens- frohe und feminine Komödie in einer Stadt\, wo sonst Bewegungsmelder\, Nachtsichtgeräte und Grenzzäune den Strom afrikanischer Flüchtender dämmen. \n\n\n\n \n©JulioVergne \n  \nAuszeichnungen:\nPREMIOS CARMEN ANDALUCIA 2022 Beste Regie\nALMERÍA INTERNATIONAL FILM FESRIVAL 2021 Beste Reg \n\nAlegría\nDrama\, Komödie | Spanien 2021 | CH Premiere\nOv/e | 119′ | Violeta Salama\nCecilia Suárez\, Laia Manzanares\, Sarah Perles\, Mara Guil\, Leonardo Sbaraglia\n\nMittwoch 7.6.2023\, 20:30 Uhr\, Kino Houdini \nBitte bringen Sie Ihr ZIID Ticket ins Kino mit! \nDas gesamte Filmfestivalprogramm 2023 finden Sie hier. \nIn Kooperation mit:
URL:https://ziid.ch/event/exklusiver-vorverkauf-fuer-den-film-alegria/
LOCATION:Kino Houdini\, Badenerstrasse 173\, 8004 Zürich
CATEGORIES:Event,Film
END:VEVENT
END:VCALENDAR